BEGIN:VCALENDAR
VERSION:2.0
PRODID:JMS Hockey
X-PUBLISHED-TTL:P1W
BEGIN:VEVENT
UID:69e79a07a26e0
DTSTART:20180801T014500Z
SEQUENCE:0
TRANSP:OPAQUE
DTEND:20180801T031500Z
URL:http://jmshockey.com/games/11264
LOCATION:St Louis Park Rec Center
SUMMARY:Lower Level Game at St Louis Park Rec Center
CLASS:PUBLIC
DTSTAMP:20260421T103847Z
END:VEVENT
END:VCALENDAR