BEGIN:VCALENDAR
VERSION:2.0
PRODID:JMS Hockey
X-PUBLISHED-TTL:P1W
BEGIN:VEVENT
UID:69e7c8e658803
DTSTART:20100102T034500Z
SEQUENCE:0
TRANSP:OPAQUE
DTEND:20100102T051500Z
URL:http://jmshockey.com/games/1126
LOCATION:Richfield Ice Arena
SUMMARY:Novice Game at Richfield Ice Arena
CLASS:PUBLIC
DTSTAMP:20260421T135846Z
END:VEVENT
END:VCALENDAR