BEGIN:VCALENDAR
VERSION:2.0
PRODID:JMS Hockey
X-PUBLISHED-TTL:P1W
BEGIN:VEVENT
UID:69e7ae8e5a536
DTSTART:20180711T014500Z
SEQUENCE:0
TRANSP:OPAQUE
DTEND:20180711T031500Z
URL:http://jmshockey.com/games/11241
LOCATION:Maple Grove
SUMMARY:Intermediate Game at Maple Grove
CLASS:PUBLIC
DTSTAMP:20260421T120622Z
END:VEVENT
END:VCALENDAR