BEGIN:VCALENDAR
VERSION:2.0
PRODID:JMS Hockey
X-PUBLISHED-TTL:P1W
BEGIN:VEVENT
UID:69e787b5e68ca
DTSTART:20180831T023000Z
SEQUENCE:0
TRANSP:OPAQUE
DTEND:20180831T040000Z
URL:http://jmshockey.com/games/11239
LOCATION:Maple Grove
SUMMARY:Lower Level Game at Maple Grove
CLASS:PUBLIC
DTSTAMP:20260421T092037Z
END:VEVENT
END:VCALENDAR