BEGIN:VCALENDAR
VERSION:2.0
PRODID:JMS Hockey
X-PUBLISHED-TTL:P1W
BEGIN:VEVENT
UID:69e7aec77afa2
DTSTART:20180810T024500Z
SEQUENCE:0
TRANSP:OPAQUE
DTEND:20180810T041500Z
URL:http://jmshockey.com/games/11237
LOCATION:Maple Grove
SUMMARY:Lower Level Game at Maple Grove
CLASS:PUBLIC
DTSTAMP:20260421T120719Z
END:VEVENT
END:VCALENDAR