BEGIN:VCALENDAR
VERSION:2.0
PRODID:JMS Hockey
X-PUBLISHED-TTL:P1W
BEGIN:VEVENT
UID:69e7b1234263d
DTSTART:20091230T024500Z
SEQUENCE:0
TRANSP:OPAQUE
DTEND:20091230T041500Z
URL:http://jmshockey.com/games/1123
LOCATION:Augsburg
SUMMARY:Level 2 Game at Augsburg
CLASS:PUBLIC
DTSTAMP:20260421T121723Z
END:VEVENT
END:VCALENDAR