BEGIN:VCALENDAR
VERSION:2.0
PRODID:JMS Hockey
X-PUBLISHED-TTL:P1W
BEGIN:VEVENT
UID:69e7d434abc24
DTSTART:20091231T040000Z
SEQUENCE:0
TRANSP:OPAQUE
DTEND:20091231T053000Z
URL:http://jmshockey.com/games/1122
LOCATION:Highland Arena
SUMMARY:Level 2 Game at Highland Arena
CLASS:PUBLIC
DTSTAMP:20260421T144700Z
END:VEVENT
END:VCALENDAR