BEGIN:VCALENDAR
VERSION:2.0
PRODID:JMS Hockey
X-PUBLISHED-TTL:P1W
BEGIN:VEVENT
UID:69e783b5b5e1f
DTSTART:20180623T000000Z
SEQUENCE:0
TRANSP:OPAQUE
DTEND:20180623T013000Z
URL:http://jmshockey.com/games/11213
LOCATION:St Louis Park Rec Center
SUMMARY:Novice Game at St Louis Park Rec Center
CLASS:PUBLIC
DTSTAMP:20260421T090333Z
END:VEVENT
END:VCALENDAR