BEGIN:VCALENDAR
VERSION:2.0
PRODID:JMS Hockey
X-PUBLISHED-TTL:P1W
BEGIN:VEVENT
UID:69e7c6f80fbb9
DTSTART:20180630T014500Z
SEQUENCE:0
TRANSP:OPAQUE
DTEND:20180630T031500Z
URL:http://jmshockey.com/games/11211
LOCATION:St Louis Park Rec Center
SUMMARY:Upper Level Game at St Louis Park Rec Center
CLASS:PUBLIC
DTSTAMP:20260421T135032Z
END:VEVENT
END:VCALENDAR