BEGIN:VCALENDAR
VERSION:2.0
PRODID:JMS Hockey
X-PUBLISHED-TTL:P1W
BEGIN:VEVENT
UID:69e77a742e72f
DTSTART:20180627T024500Z
SEQUENCE:0
TRANSP:OPAQUE
DTEND:20180627T041500Z
URL:http://jmshockey.com/games/11209
LOCATION:St Louis Park Rec Center
SUMMARY:Lower Level Game at St Louis Park Rec Center
CLASS:PUBLIC
DTSTAMP:20260421T082404Z
END:VEVENT
END:VCALENDAR