BEGIN:VCALENDAR
VERSION:2.0
PRODID:JMS Hockey
X-PUBLISHED-TTL:P1W
BEGIN:VEVENT
UID:69e795a85ce43
DTSTART:20180623T011500Z
SEQUENCE:0
TRANSP:OPAQUE
DTEND:20180623T024500Z
URL:http://jmshockey.com/games/11207
LOCATION:Roseville Skating Center
SUMMARY:Lower Level Game at Roseville Skating Center
CLASS:PUBLIC
DTSTAMP:20260421T102008Z
END:VEVENT
END:VCALENDAR