BEGIN:VCALENDAR
VERSION:2.0
PRODID:JMS Hockey
X-PUBLISHED-TTL:P1W
BEGIN:VEVENT
UID:69e7a543dc96c
DTSTART:20180612T020000Z
SEQUENCE:0
TRANSP:OPAQUE
DTEND:20180612T033000Z
URL:http://jmshockey.com/games/11169
LOCATION:Roseville Skating Center
SUMMARY:Intermediate Game at Roseville Skating Center
CLASS:PUBLIC
DTSTAMP:20260421T112643Z
END:VEVENT
END:VCALENDAR