BEGIN:VCALENDAR
VERSION:2.0
PRODID:JMS Hockey
X-PUBLISHED-TTL:P1W
BEGIN:VEVENT
UID:69e7af5d480a3
DTSTART:20180609T010000Z
SEQUENCE:0
TRANSP:OPAQUE
DTEND:20180609T023000Z
URL:http://jmshockey.com/games/11161
LOCATION:Eden Prairie Comm Ctr
SUMMARY:Intermediate Game at Eden Prairie Comm Ctr
CLASS:PUBLIC
DTSTAMP:20260421T120949Z
END:VEVENT
END:VCALENDAR