BEGIN:VCALENDAR
VERSION:2.0
PRODID:JMS Hockey
X-PUBLISHED-TTL:P1W
BEGIN:VEVENT
UID:69e79dcd99ef1
DTSTART:20180602T010000Z
SEQUENCE:0
TRANSP:OPAQUE
DTEND:20180602T023000Z
URL:http://jmshockey.com/games/11142
LOCATION:Eden Prairie Comm Ctr
SUMMARY:Intermediate Game at Eden Prairie Comm Ctr
CLASS:PUBLIC
DTSTAMP:20260421T105453Z
END:VEVENT
END:VCALENDAR