BEGIN:VCALENDAR
VERSION:2.0
PRODID:JMS Hockey
X-PUBLISHED-TTL:P1W
BEGIN:VEVENT
UID:69e79dc3d544c
DTSTART:20180526T010000Z
SEQUENCE:0
TRANSP:OPAQUE
DTEND:20180526T023000Z
URL:http://jmshockey.com/games/11141
LOCATION:Eden Prairie Comm Ctr
SUMMARY:Intermediate Game at Eden Prairie Comm Ctr
CLASS:PUBLIC
DTSTAMP:20260421T105443Z
END:VEVENT
END:VCALENDAR