BEGIN:VCALENDAR
VERSION:2.0
PRODID:JMS Hockey
X-PUBLISHED-TTL:P1W
BEGIN:VEVENT
UID:69e7b5e6a5940
DTSTART:20180512T010000Z
SEQUENCE:0
TRANSP:OPAQUE
DTEND:20180512T023000Z
URL:http://jmshockey.com/games/11139
LOCATION:Eden Prairie Comm Ctr
SUMMARY:Intermediate Game at Eden Prairie Comm Ctr
CLASS:PUBLIC
DTSTAMP:20260421T123742Z
END:VEVENT
END:VCALENDAR