BEGIN:VCALENDAR
VERSION:2.0
PRODID:JMS Hockey
X-PUBLISHED-TTL:P1W
BEGIN:VEVENT
UID:69e79a65ae4c0
DTSTART:20180516T014500Z
SEQUENCE:0
TRANSP:OPAQUE
DTEND:20180516T031500Z
URL:http://jmshockey.com/games/11135
LOCATION:Eden Prairie Comm Ctr
SUMMARY:Upper Level Game at Eden Prairie Comm Ctr
CLASS:PUBLIC
DTSTAMP:20260421T104021Z
END:VEVENT
END:VCALENDAR