BEGIN:VCALENDAR
VERSION:2.0
PRODID:JMS Hockey
X-PUBLISHED-TTL:P1W
BEGIN:VEVENT
UID:69e787b4a156b
DTSTART:20180614T001500Z
SEQUENCE:0
TRANSP:OPAQUE
DTEND:20180614T014000Z
URL:http://jmshockey.com/games/11122
LOCATION:Pleasant Arena
SUMMARY:Lower Level Game at Pleasant Arena
CLASS:PUBLIC
DTSTAMP:20260421T092036Z
END:VEVENT
END:VCALENDAR