BEGIN:VCALENDAR
VERSION:2.0
PRODID:JMS Hockey
X-PUBLISHED-TTL:P1W
BEGIN:VEVENT
UID:69e79fb19589c
DTSTART:20180606T235000Z
SEQUENCE:0
TRANSP:OPAQUE
DTEND:20180607T005000Z
URL:http://jmshockey.com/games/11120
LOCATION:Highland Arena
SUMMARY:Lower Level Game at Highland Arena
CLASS:PUBLIC
DTSTAMP:20260421T110257Z
END:VEVENT
END:VCALENDAR