BEGIN:VCALENDAR
VERSION:2.0
PRODID:JMS Hockey
X-PUBLISHED-TTL:P1W
BEGIN:VEVENT
UID:69e7a39dac7d9
DTSTART:20180524T014000Z
SEQUENCE:0
TRANSP:OPAQUE
DTEND:20180524T031000Z
URL:http://jmshockey.com/games/11112
LOCATION:Doug Woog Arena (Wakota)
SUMMARY:Intermediate Game at Doug Woog Arena (Wakota)
CLASS:PUBLIC
DTSTAMP:20260421T111941Z
END:VEVENT
END:VCALENDAR