BEGIN:VCALENDAR
VERSION:2.0
PRODID:JMS Hockey
X-PUBLISHED-TTL:P1W
BEGIN:VEVENT
UID:69e7d870e9ddd
DTSTART:20091223T033000Z
SEQUENCE:0
TRANSP:OPAQUE
DTEND:20091223T050000Z
URL:http://jmshockey.com/games/1110
LOCATION:New Hope Ice Arena
SUMMARY:Level 3 Game at New Hope Ice Arena
CLASS:PUBLIC
DTSTAMP:20260421T150504Z
END:VEVENT
END:VCALENDAR