BEGIN:VCALENDAR
VERSION:2.0
PRODID:JMS Hockey
X-PUBLISHED-TTL:P1W
BEGIN:VEVENT
UID:69e7879e52d9c
DTSTART:20180428T011500Z
SEQUENCE:0
TRANSP:OPAQUE
DTEND:20180428T024500Z
URL:http://jmshockey.com/games/11080
LOCATION:Eden Prairie Comm Ctr
SUMMARY:Intermediate Game at Eden Prairie Comm Ctr
CLASS:PUBLIC
DTSTAMP:20260421T092014Z
END:VEVENT
END:VCALENDAR