BEGIN:VCALENDAR
VERSION:2.0
PRODID:JMS Hockey
X-PUBLISHED-TTL:P1W
BEGIN:VEVENT
UID:69e75f218c9a9
DTSTART:20180418T024500Z
SEQUENCE:0
TRANSP:OPAQUE
DTEND:20180418T041500Z
URL:http://jmshockey.com/games/11059
LOCATION:St Louis Park Rec Center
SUMMARY:Lower Level Game at St Louis Park Rec Center
CLASS:PUBLIC
DTSTAMP:20260421T062729Z
END:VEVENT
END:VCALENDAR