BEGIN:VCALENDAR
VERSION:2.0
PRODID:JMS Hockey
X-PUBLISHED-TTL:P1W
BEGIN:VEVENT
UID:69e79a3a1bcd9
DTSTART:20180409T013000Z
SEQUENCE:0
TRANSP:OPAQUE
DTEND:20180409T023000Z
URL:http://jmshockey.com/games/11038
LOCATION:Roseville Skating Center
SUMMARY:All level Game at Roseville Skating Center
CLASS:PUBLIC
DTSTAMP:20260421T103938Z
END:VEVENT
END:VCALENDAR