BEGIN:VCALENDAR
VERSION:2.0
PRODID:JMS Hockey
X-PUBLISHED-TTL:P1W
BEGIN:VEVENT
UID:69e787b7d14d4
DTSTART:20180510T010000Z
SEQUENCE:0
TRANSP:OPAQUE
DTEND:20180510T023000Z
URL:http://jmshockey.com/games/11030
LOCATION:Polar Arena
SUMMARY:Lower Level Game at Polar Arena
CLASS:PUBLIC
DTSTAMP:20260421T092039Z
END:VEVENT
END:VCALENDAR