BEGIN:VCALENDAR
VERSION:2.0
PRODID:JMS Hockey
X-PUBLISHED-TTL:P1W
BEGIN:VEVENT
UID:69e7c368c4c72
DTSTART:20180503T010000Z
SEQUENCE:0
TRANSP:OPAQUE
DTEND:20180503T023000Z
URL:http://jmshockey.com/games/11029
LOCATION:Polar Arena
SUMMARY:Lower Level Game at Polar Arena
CLASS:PUBLIC
DTSTAMP:20260421T133520Z
END:VEVENT
END:VCALENDAR