BEGIN:VCALENDAR
VERSION:2.0
PRODID:JMS Hockey
X-PUBLISHED-TTL:P1W
BEGIN:VEVENT
UID:69e783b6819a5
DTSTART:20180518T021500Z
SEQUENCE:0
TRANSP:OPAQUE
DTEND:20180518T034500Z
URL:http://jmshockey.com/games/11021
LOCATION:Maple Grove
SUMMARY:Lower Level Game at Maple Grove
CLASS:PUBLIC
DTSTAMP:20260421T090334Z
END:VEVENT
END:VCALENDAR