BEGIN:VCALENDAR
VERSION:2.0
PRODID:JMS Hockey
X-PUBLISHED-TTL:P1W
BEGIN:VEVENT
UID:69e7773d9e9f7
DTSTART:20180511T013000Z
SEQUENCE:0
TRANSP:OPAQUE
DTEND:20180511T030000Z
URL:http://jmshockey.com/games/11019
LOCATION:Maple Grove
SUMMARY:Lower Level Game at Maple Grove
CLASS:PUBLIC
DTSTAMP:20260421T081021Z
END:VEVENT
END:VCALENDAR