BEGIN:VCALENDAR
VERSION:2.0
PRODID:JMS Hockey
X-PUBLISHED-TTL:P1W
BEGIN:VEVENT
UID:69e79fb12a071
DTSTART:20180523T020000Z
SEQUENCE:0
TRANSP:OPAQUE
DTEND:20180523T033000Z
URL:http://jmshockey.com/games/11011
LOCATION:Maple Grove
SUMMARY:Intermediate Game at Maple Grove
CLASS:PUBLIC
DTSTAMP:20260421T110257Z
END:VEVENT
END:VCALENDAR