BEGIN:VCALENDAR
VERSION:2.0
PRODID:JMS Hockey
X-PUBLISHED-TTL:P1W
BEGIN:VEVENT
UID:69e787cbe2998
DTSTART:20180425T011000Z
SEQUENCE:0
TRANSP:OPAQUE
DTEND:20180425T024000Z
URL:http://jmshockey.com/games/10995
LOCATION:Burnsville Arena
SUMMARY:Lower Level Game at Burnsville Arena
CLASS:PUBLIC
DTSTAMP:20260421T092059Z
END:VEVENT
END:VCALENDAR