BEGIN:VCALENDAR
VERSION:2.0
PRODID:JMS Hockey
X-PUBLISHED-TTL:P1W
BEGIN:VEVENT
UID:69e7880547f5d
DTSTART:20180411T011000Z
SEQUENCE:0
TRANSP:OPAQUE
DTEND:20180411T024000Z
URL:http://jmshockey.com/games/10993
LOCATION:Burnsville Arena
SUMMARY:Lower Level Game at Burnsville Arena
CLASS:PUBLIC
DTSTAMP:20260421T092157Z
END:VEVENT
END:VCALENDAR