BEGIN:VCALENDAR
VERSION:2.0
PRODID:JMS Hockey
X-PUBLISHED-TTL:P1W
BEGIN:VEVENT
UID:69e7c3bb40505
DTSTART:20180413T022000Z
SEQUENCE:0
TRANSP:OPAQUE
DTEND:20180413T035000Z
URL:http://jmshockey.com/games/10985
LOCATION:Burnsville Arena
SUMMARY:Intermediate Game at Burnsville Arena
CLASS:PUBLIC
DTSTAMP:20260421T133643Z
END:VEVENT
END:VCALENDAR