BEGIN:VCALENDAR
VERSION:2.0
PRODID:JMS Hockey
X-PUBLISHED-TTL:P1W
BEGIN:VEVENT
UID:69e79a97a3499
DTSTART:20180314T011500Z
SEQUENCE:0
TRANSP:OPAQUE
DTEND:20180314T024500Z
URL:http://jmshockey.com/games/10984
LOCATION:Maple Grove
SUMMARY:Intermediate Game at Maple Grove
CLASS:PUBLIC
DTSTAMP:20260421T104111Z
END:VEVENT
END:VCALENDAR