BEGIN:VCALENDAR
VERSION:2.0
PRODID:JMS Hockey
X-PUBLISHED-TTL:P1W
BEGIN:VEVENT
UID:69e778e42328e
DTSTART:20180321T024500Z
SEQUENCE:0
TRANSP:OPAQUE
DTEND:20180321T041500Z
URL:http://jmshockey.com/games/10978
LOCATION:St Louis Park Rec Center
SUMMARY:Lower Level Game at St Louis Park Rec Center
CLASS:PUBLIC
DTSTAMP:20260421T081724Z
END:VEVENT
END:VCALENDAR