BEGIN:VCALENDAR
VERSION:2.0
PRODID:JMS Hockey
X-PUBLISHED-TTL:P1W
BEGIN:VEVENT
UID:69e7a383a5071
DTSTART:20180407T020000Z
SEQUENCE:0
TRANSP:OPAQUE
DTEND:20180407T033000Z
URL:http://jmshockey.com/games/10975
LOCATION:St Louis Park Rec Center
SUMMARY:Upper Level Game at St Louis Park Rec Center
CLASS:PUBLIC
DTSTAMP:20260421T111915Z
END:VEVENT
END:VCALENDAR