BEGIN:VCALENDAR
VERSION:2.0
PRODID:JMS Hockey
X-PUBLISHED-TTL:P1W
BEGIN:VEVENT
UID:69e787b84dac9
DTSTART:20180331T010000Z
SEQUENCE:0
TRANSP:OPAQUE
DTEND:20180331T023000Z
URL:http://jmshockey.com/games/10968
LOCATION:Parade Ice Gardens
SUMMARY:Novice Game at Parade Ice Gardens
CLASS:PUBLIC
DTSTAMP:20260421T092040Z
END:VEVENT
END:VCALENDAR