BEGIN:VCALENDAR
VERSION:2.0
PRODID:JMS Hockey
X-PUBLISHED-TTL:P1W
BEGIN:VEVENT
UID:69e78bd0a23df
DTSTART:20180310T020000Z
SEQUENCE:0
TRANSP:OPAQUE
DTEND:20180310T033000Z
URL:http://jmshockey.com/games/10966
LOCATION:Augsburg
SUMMARY:Novice Game at Augsburg
CLASS:PUBLIC
DTSTAMP:20260421T093808Z
END:VEVENT
END:VCALENDAR