BEGIN:VCALENDAR
VERSION:2.0
PRODID:JMS Hockey
X-PUBLISHED-TTL:P1W
BEGIN:VEVENT
UID:69e7a38420e87
DTSTART:20180401T014000Z
SEQUENCE:0
TRANSP:OPAQUE
DTEND:20180401T031000Z
URL:http://jmshockey.com/games/10964
LOCATION:St Thomas Ice Arena
SUMMARY:All level Game at St Thomas Ice Arena
CLASS:PUBLIC
DTSTAMP:20260421T111916Z
END:VEVENT
END:VCALENDAR