BEGIN:VCALENDAR
VERSION:2.0
PRODID:JMS Hockey
X-PUBLISHED-TTL:P1W
BEGIN:VEVENT
UID:69e78b8e09fb6
DTSTART:20180302T034000Z
SEQUENCE:0
TRANSP:OPAQUE
DTEND:20180302T051000Z
URL:http://jmshockey.com/games/10955
LOCATION:St Thomas Ice Arena
SUMMARY:All level Game at St Thomas Ice Arena
CLASS:PUBLIC
DTSTAMP:20260421T093702Z
END:VEVENT
END:VCALENDAR