BEGIN:VCALENDAR
VERSION:2.0
PRODID:JMS Hockey
X-PUBLISHED-TTL:P1W
BEGIN:VEVENT
UID:69e7961d6e774
DTSTART:20180313T024000Z
SEQUENCE:0
TRANSP:OPAQUE
DTEND:20180313T041000Z
URL:http://jmshockey.com/games/10951
LOCATION:St Thomas Ice Arena
SUMMARY:Intermediate Game at St Thomas Ice Arena
CLASS:PUBLIC
DTSTAMP:20260421T102205Z
END:VEVENT
END:VCALENDAR