BEGIN:VCALENDAR
VERSION:2.0
PRODID:JMS Hockey
X-PUBLISHED-TTL:P1W
BEGIN:VEVENT
UID:69e787c4eceb0
DTSTART:20180306T023000Z
SEQUENCE:0
TRANSP:OPAQUE
DTEND:20180306T040000Z
URL:http://jmshockey.com/games/10942
LOCATION:Doug Woog Arena (Wakota)
SUMMARY:Lower Level Game at Doug Woog Arena (Wakota)
CLASS:PUBLIC
DTSTAMP:20260421T092052Z
END:VEVENT
END:VCALENDAR