BEGIN:VCALENDAR
VERSION:2.0
PRODID:JMS Hockey
X-PUBLISHED-TTL:P1W
BEGIN:VEVENT
UID:69e79762414d8
DTSTART:20180316T010000Z
SEQUENCE:0
TRANSP:OPAQUE
DTEND:20180316T023000Z
URL:http://jmshockey.com/games/10935
LOCATION:Woodbury Bielenberg
SUMMARY:Lower Level Game at Woodbury Bielenberg
CLASS:PUBLIC
DTSTAMP:20260421T102730Z
END:VEVENT
END:VCALENDAR