BEGIN:VCALENDAR
VERSION:2.0
PRODID:JMS Hockey
X-PUBLISHED-TTL:P1W
BEGIN:VEVENT
UID:69e7c3b58d0b1
DTSTART:20180308T020000Z
SEQUENCE:0
TRANSP:OPAQUE
DTEND:20180308T033000Z
URL:http://jmshockey.com/games/10918
LOCATION:Polar Arena
SUMMARY:Lower Level Game at Polar Arena
CLASS:PUBLIC
DTSTAMP:20260421T133637Z
END:VEVENT
END:VCALENDAR