BEGIN:VCALENDAR
VERSION:2.0
PRODID:JMS Hockey
X-PUBLISHED-TTL:P1W
BEGIN:VEVENT
UID:69e78e180b14c
DTSTART:20180328T021500Z
SEQUENCE:0
TRANSP:OPAQUE
DTEND:20180328T034500Z
URL:http://jmshockey.com/games/10916
LOCATION:Maple Grove
SUMMARY:Intermediate Game at Maple Grove
CLASS:PUBLIC
DTSTAMP:20260421T094752Z
END:VEVENT
END:VCALENDAR