BEGIN:VCALENDAR
VERSION:2.0
PRODID:JMS Hockey
X-PUBLISHED-TTL:P1W
BEGIN:VEVENT
UID:69e776eaa87b2
DTSTART:20180330T021500Z
SEQUENCE:0
TRANSP:OPAQUE
DTEND:20180330T034500Z
URL:http://jmshockey.com/games/10914
LOCATION:Maple Grove
SUMMARY:Lower Level Game at Maple Grove
CLASS:PUBLIC
DTSTAMP:20260421T080858Z
END:VEVENT
END:VCALENDAR