BEGIN:VCALENDAR
VERSION:2.0
PRODID:JMS Hockey
X-PUBLISHED-TTL:P1W
BEGIN:VEVENT
UID:69e7a3e05f74f
DTSTART:20180303T031500Z
SEQUENCE:0
TRANSP:OPAQUE
DTEND:20180303T044500Z
URL:http://jmshockey.com/games/10892
LOCATION:Schwan Superrink
SUMMARY:All level Game at Schwan Superrink
CLASS:PUBLIC
DTSTAMP:20260421T112048Z
END:VEVENT
END:VCALENDAR