BEGIN:VCALENDAR
VERSION:2.0
PRODID:JMS Hockey
X-PUBLISHED-TTL:P1W
BEGIN:VEVENT
UID:69e7e848134ee
DTSTART:20091217T040000Z
SEQUENCE:0
TRANSP:OPAQUE
DTEND:20091217T053000Z
URL:http://jmshockey.com/games/1089
LOCATION:Biff Adams Arena
SUMMARY:Level 2 Game at Biff Adams Arena
CLASS:PUBLIC
DTSTAMP:20260421T161240Z
END:VEVENT
END:VCALENDAR