BEGIN:VCALENDAR
VERSION:2.0
PRODID:JMS Hockey
X-PUBLISHED-TTL:P1W
BEGIN:VEVENT
UID:69e785c3134af
DTSTART:20180301T023000Z
SEQUENCE:0
TRANSP:OPAQUE
DTEND:20180301T040000Z
URL:http://jmshockey.com/games/10889
LOCATION:Doug Woog Arena (Wakota)
SUMMARY:Intermediate Game at Doug Woog Arena (Wakota)
CLASS:PUBLIC
DTSTAMP:20260421T091219Z
END:VEVENT
END:VCALENDAR