BEGIN:VCALENDAR
VERSION:2.0
PRODID:JMS Hockey
X-PUBLISHED-TTL:P1W
BEGIN:VEVENT
UID:69e7c3a4be70c
DTSTART:20180217T032000Z
SEQUENCE:0
TRANSP:OPAQUE
DTEND:20180217T045000Z
URL:http://jmshockey.com/games/10885
LOCATION:Doug Woog Arena (Wakota)
SUMMARY:Intermediate Game at Doug Woog Arena (Wakota)
CLASS:PUBLIC
DTSTAMP:20260421T133620Z
END:VEVENT
END:VCALENDAR