BEGIN:VCALENDAR
VERSION:2.0
PRODID:JMS Hockey
X-PUBLISHED-TTL:P1W
BEGIN:VEVENT
UID:69e787b6e629c
DTSTART:20180302T032000Z
SEQUENCE:0
TRANSP:OPAQUE
DTEND:20180302T045000Z
URL:http://jmshockey.com/games/10875
LOCATION:Woodbury Bielenberg
SUMMARY:Lower Level Game at Woodbury Bielenberg
CLASS:PUBLIC
DTSTAMP:20260421T092038Z
END:VEVENT
END:VCALENDAR